BEGIN:VCALENDAR
VERSION:2.0
PRODID:-//Die Friedrichshainer - ECPv6.15.20//NONSGML v1.0//EN
CALSCALE:GREGORIAN
METHOD:PUBLISH
X-WR-CALNAME:Die Friedrichshainer
X-ORIGINAL-URL:https://die-friedrichshainer.de
X-WR-CALDESC:Veranstaltungen für Die Friedrichshainer
REFRESH-INTERVAL;VALUE=DURATION:PT1H
X-Robots-Tag:noindex
X-PUBLISHED-TTL:PT1H
BEGIN:VTIMEZONE
TZID:Europe/Berlin
BEGIN:DAYLIGHT
TZOFFSETFROM:+0100
TZOFFSETTO:+0200
TZNAME:CEST
DTSTART:20250330T010000
END:DAYLIGHT
BEGIN:STANDARD
TZOFFSETFROM:+0200
TZOFFSETTO:+0100
TZNAME:CET
DTSTART:20251026T010000
END:STANDARD
BEGIN:DAYLIGHT
TZOFFSETFROM:+0100
TZOFFSETTO:+0200
TZNAME:CEST
DTSTART:20260329T010000
END:DAYLIGHT
BEGIN:STANDARD
TZOFFSETFROM:+0200
TZOFFSETTO:+0100
TZNAME:CET
DTSTART:20261025T010000
END:STANDARD
BEGIN:DAYLIGHT
TZOFFSETFROM:+0100
TZOFFSETTO:+0200
TZNAME:CEST
DTSTART:20270328T010000
END:DAYLIGHT
BEGIN:STANDARD
TZOFFSETFROM:+0200
TZOFFSETTO:+0100
TZNAME:CET
DTSTART:20271031T010000
END:STANDARD
END:VTIMEZONE
BEGIN:VEVENT
DTSTART;TZID=Europe/Berlin:20260422T190000
DTEND;TZID=Europe/Berlin:20260422T233000
DTSTAMP:20260422T180245
CREATED:20260408T011706Z
LAST-MODIFIED:20260422T011814Z
UID:169486-1776884400-1776900600@die-friedrichshainer.de
SUMMARY:Lucas Johnson presents: ONLY IN BERLIN with special guests ONK LOU x ELTO
DESCRIPTION:Only in Berlin is a new concert series that celebrates the capital’s singer-songwriter scene in its purest form\n\n\nOnly in Berlin – Die neue Konzertreihe\, die die spannendste Singer-Songwriter-Szene der Hauptstadt in ihrer pursten Form feiert: ohne Backing Tracks\, ohne vorproduzierte Elemente – dafür mit echter Live-Energie und kompletter Bandbesetzung. An einem einzigen\, besonderen Abend entsteht auf der Bühne ein musikalisches Erlebnis\, das es so nur hier gibt. \n \nUnsere heutigen Gäste: ELTO & ONK LOU Genre: Alternativem Pop\, Folk und Country. \n \ndoors: 19h \ndonation based    \nKennengelernt 2019\, Wiedersehen 2024 auf einem Konzert\, bei dem beide spielten. Ohne großen Plan\, einfach aus dem Moment heraus trafen sich die beiden. Die Chemie stimmt\, die Songs fließen. Aus einer Session wird ein kreatives Bündnis\, aus dem das Album „Reminder“ entsteht – ein Sound zwischen alternativem Pop\, Folk und Country\, getragen von zwei Stimmen\, die ihre Geschichten mitbringen. \n \nGenau daraus entsteht „Only in Berlin“: ein einmaliger musikalischer Dialog\, bei dem Neues entsteht\, jeder Moment handgemacht ist und Musik in ihrer ehrlichsten Form erlebbar wird. \n \nLine Up: ELTO – singer + gitarre  ONK LOU – singer + gitarre Constantin Krieg – piano + synthesizer Jannick Hach – e-gitarre Paul Breitling – bass Lucas Johnson – schlagzeug \nKonstantin Koller – Live Mix  \n \nLucas Johnson\, Schlagzeuger und Musical Director\, ist der Host und kuratiert die Konzertreihe „Only in Berlin“.
URL:https://die-friedrichshainer.de/veranstaltung/lucas-johnson-presents-only-in-berlin-with-special-guests-onk-lou-x-elto/
LOCATION:Bar Bobu | Berlin | Friedrichshain | Bar | Restaurant | Club | Live Music\, Müggelstraße 9\, Berlin\, BE\, 10247\, Germany
CATEGORIES:Party
ATTACH;FMTTYPE=image/jpeg:https://die-friedrichshainer.de/wp-content/uploads/sites/2/14dca1b978c0a44bd539077ef79f784f.jpg
END:VEVENT
END:VCALENDAR